BEGIN:VCALENDAR
VERSION:2.0
PRODID:-//Nature en Pays d&#039;Arvert - ECPv6.15.20//NONSGML v1.0//EN
CALSCALE:GREGORIAN
METHOD:PUBLISH
X-WR-CALNAME:Nature en Pays d&#039;Arvert
X-ORIGINAL-URL:https://natvert.fr
X-WR-CALDESC:Évènements pour Nature en Pays d&#039;Arvert
REFRESH-INTERVAL;VALUE=DURATION:PT1H
X-Robots-Tag:noindex
X-PUBLISHED-TTL:PT1H
BEGIN:VTIMEZONE
TZID:Europe/Paris
BEGIN:DAYLIGHT
TZOFFSETFROM:+0100
TZOFFSETTO:+0200
TZNAME:CEST
DTSTART:20240331T010000
END:DAYLIGHT
BEGIN:STANDARD
TZOFFSETFROM:+0200
TZOFFSETTO:+0100
TZNAME:CET
DTSTART:20241027T010000
END:STANDARD
BEGIN:DAYLIGHT
TZOFFSETFROM:+0100
TZOFFSETTO:+0200
TZNAME:CEST
DTSTART:20250330T010000
END:DAYLIGHT
BEGIN:STANDARD
TZOFFSETFROM:+0200
TZOFFSETTO:+0100
TZNAME:CET
DTSTART:20251026T010000
END:STANDARD
BEGIN:DAYLIGHT
TZOFFSETFROM:+0100
TZOFFSETTO:+0200
TZNAME:CEST
DTSTART:20260329T010000
END:DAYLIGHT
BEGIN:STANDARD
TZOFFSETFROM:+0200
TZOFFSETTO:+0100
TZNAME:CET
DTSTART:20261025T010000
END:STANDARD
END:VTIMEZONE
BEGIN:VEVENT
DTSTART;TZID=Europe/Paris:20250301T093000
DTEND;TZID=Europe/Paris:20250301T123000
DTSTAMP:20260422T192225
CREATED:20250112T152747Z
LAST-MODIFIED:20250220T103601Z
UID:2077-1740821400-1740832200@natvert.fr
SUMMARY:A la recherche des fossiles
DESCRIPTION:Nous renouvelons une sortie faite il y a quelques années qui avait rencontré un vrai succès. Venez à la découverte des fossiles\, notamment des coraux\, piégés dans les falaises de la Pointe du Chai près d’Angoulins\, en compagnie de Pierre Miramand\, paléontologue averti ! \n\n\n\nCovoiturage organisé au départ d’Arvert.
URL:https://natvert.fr/event/a-la-recherche-des-fossiles/
CATEGORIES:Sorties Nature
END:VEVENT
END:VCALENDAR