BEGIN:VCALENDAR
VERSION:2.0
PRODID:-//Nature en Pays d&#039;Arvert - ECPv6.15.20//NONSGML v1.0//EN
CALSCALE:GREGORIAN
METHOD:PUBLISH
X-ORIGINAL-URL:https://natvert.fr
X-WR-CALDESC:Évènements pour Nature en Pays d&#039;Arvert
REFRESH-INTERVAL;VALUE=DURATION:PT1H
X-Robots-Tag:noindex
X-PUBLISHED-TTL:PT1H
BEGIN:VTIMEZONE
TZID:Europe/Paris
BEGIN:DAYLIGHT
TZOFFSETFROM:+0100
TZOFFSETTO:+0200
TZNAME:CEST
DTSTART:20240331T010000
END:DAYLIGHT
BEGIN:STANDARD
TZOFFSETFROM:+0200
TZOFFSETTO:+0100
TZNAME:CET
DTSTART:20241027T010000
END:STANDARD
BEGIN:DAYLIGHT
TZOFFSETFROM:+0100
TZOFFSETTO:+0200
TZNAME:CEST
DTSTART:20250330T010000
END:DAYLIGHT
BEGIN:STANDARD
TZOFFSETFROM:+0200
TZOFFSETTO:+0100
TZNAME:CET
DTSTART:20251026T010000
END:STANDARD
BEGIN:DAYLIGHT
TZOFFSETFROM:+0100
TZOFFSETTO:+0200
TZNAME:CEST
DTSTART:20260329T010000
END:DAYLIGHT
BEGIN:STANDARD
TZOFFSETFROM:+0200
TZOFFSETTO:+0100
TZNAME:CET
DTSTART:20261025T010000
END:STANDARD
END:VTIMEZONE
BEGIN:VEVENT
DTSTART;TZID=Europe/Paris:20250308T093000
DTEND;TZID=Europe/Paris:20250308T170000
DTSTAMP:20260422T192345
CREATED:20250112T095804Z
LAST-MODIFIED:20250213T092203Z
UID:2068-1741426200-1741453200@natvert.fr
SUMMARY:Atelier Vannerie
DESCRIPTION:Claire nous propose de nous initier à la vannerie. Non nous ne repartirons pas avec un joli panier\, mais pourquoi pas un joli dessous de bouteille\, voir dessous de plat … \n\n\n\nL’atelier se décompose en deux phases : le matin récolte des végétaux. L’après midi\, réalisation de l’œuvre d’art … Entre les deux piquenique tiré du sac.  \n\n\n\nGratuit. Inscription réservée aux adhérents à jour de leur cotisation\, 12 personnes max. \n\n\n\nPrévoir gants et sécateur.
URL:https://natvert.fr/event/atelier-vannerie/
CATEGORIES:Ateliers
END:VEVENT
END:VCALENDAR