BEGIN:VCALENDAR
VERSION:2.0
PRODID:-//Nature en Pays d&#039;Arvert - ECPv6.15.20//NONSGML v1.0//EN
CALSCALE:GREGORIAN
METHOD:PUBLISH
X-WR-CALNAME:Nature en Pays d&#039;Arvert
X-ORIGINAL-URL:https://natvert.fr
X-WR-CALDESC:Évènements pour Nature en Pays d&#039;Arvert
REFRESH-INTERVAL;VALUE=DURATION:PT1H
X-Robots-Tag:noindex
X-PUBLISHED-TTL:PT1H
BEGIN:VTIMEZONE
TZID:Europe/Paris
BEGIN:DAYLIGHT
TZOFFSETFROM:+0100
TZOFFSETTO:+0200
TZNAME:CEST
DTSTART:20240331T010000
END:DAYLIGHT
BEGIN:STANDARD
TZOFFSETFROM:+0200
TZOFFSETTO:+0100
TZNAME:CET
DTSTART:20241027T010000
END:STANDARD
BEGIN:DAYLIGHT
TZOFFSETFROM:+0100
TZOFFSETTO:+0200
TZNAME:CEST
DTSTART:20250330T010000
END:DAYLIGHT
BEGIN:STANDARD
TZOFFSETFROM:+0200
TZOFFSETTO:+0100
TZNAME:CET
DTSTART:20251026T010000
END:STANDARD
BEGIN:DAYLIGHT
TZOFFSETFROM:+0100
TZOFFSETTO:+0200
TZNAME:CEST
DTSTART:20260329T010000
END:DAYLIGHT
BEGIN:STANDARD
TZOFFSETFROM:+0200
TZOFFSETTO:+0100
TZNAME:CET
DTSTART:20261025T010000
END:STANDARD
END:VTIMEZONE
BEGIN:VEVENT
DTSTART;TZID=Europe/Paris:20250410T180000
DTEND;TZID=Europe/Paris:20250410T200000
DTSTAMP:20260422T175541
CREATED:20250111T173957Z
LAST-MODIFIED:20250111T173959Z
UID:2053-1744308000-1744315200@natvert.fr
SUMMARY:Blaireau\, qui es - tu ?
DESCRIPTION:Natvert  et l’ASPAS organisent cette conférence pour mieux comprendre ce petit  mammifère sauvage\, hôte discret de la forêt de la Coubre et de la presqu’île d’Arvert\, mal connu et victime de la chasse.Le blaireau est un petit mustélidé essentiellement nocturne totalement inoffensif et paisible. Il est protégé dans de nombreux pays en Europe mais pas en France. Chez nous\, il est victime de chasse à tir et de battues pour des raisons partisanes et plus que discutables. De plus\, le blaireau fait les frais d’une autre forme de chasse absolument cruelle\, le déterrage\, également appelé la vènerie sous terre.Cette pratique consiste à acculer le blaireau\, parfois avec ses petits\, dans son terrier\, à le harceler à l’aide de chiens\, puis à creuser pour pouvoir le sortir avec des grosses pinces et l’achever. Elle s’exerce du 15 septembre au 15 janvier sans compter la période complémentaire qui est régulièrement autorisée à partir du 15 mai dans de nombreux départements par arrêtés préfectoraux\, alors que les jeunes de l’année ne sont pas encore autonomes.Pour empêcher cette pratique barbare et contraire à la loi sur l’environnement\, les associations mènent de nombreuses actions et se mobilisent chaque année le 15 mai\, le jour où s’ouvre\, hélas\, la saison du déterrage.Venez découvrir ce « petit ours » de nos campagnes et le combat des associations pour le protéger.
URL:https://natvert.fr/event/blaireau-qui-es-tu/
CATEGORIES:Conférences
ATTACH;FMTTYPE=image/png:https://natvert.fr/wp-content/uploads/2025/01/Blaireaux-ASPAS.png
END:VEVENT
END:VCALENDAR