BEGIN:VCALENDAR
VERSION:2.0
PRODID:-//Nature en Pays d&#039;Arvert - ECPv6.15.20//NONSGML v1.0//EN
CALSCALE:GREGORIAN
METHOD:PUBLISH
X-WR-CALNAME:Nature en Pays d&#039;Arvert
X-ORIGINAL-URL:https://natvert.fr
X-WR-CALDESC:Évènements pour Nature en Pays d&#039;Arvert
REFRESH-INTERVAL;VALUE=DURATION:PT1H
X-Robots-Tag:noindex
X-PUBLISHED-TTL:PT1H
BEGIN:VTIMEZONE
TZID:Europe/Paris
BEGIN:DAYLIGHT
TZOFFSETFROM:+0100
TZOFFSETTO:+0200
TZNAME:CEST
DTSTART:20240331T010000
END:DAYLIGHT
BEGIN:STANDARD
TZOFFSETFROM:+0200
TZOFFSETTO:+0100
TZNAME:CET
DTSTART:20241027T010000
END:STANDARD
BEGIN:DAYLIGHT
TZOFFSETFROM:+0100
TZOFFSETTO:+0200
TZNAME:CEST
DTSTART:20250330T010000
END:DAYLIGHT
BEGIN:STANDARD
TZOFFSETFROM:+0200
TZOFFSETTO:+0100
TZNAME:CET
DTSTART:20251026T010000
END:STANDARD
BEGIN:DAYLIGHT
TZOFFSETFROM:+0100
TZOFFSETTO:+0200
TZNAME:CEST
DTSTART:20260329T010000
END:DAYLIGHT
BEGIN:STANDARD
TZOFFSETFROM:+0200
TZOFFSETTO:+0100
TZNAME:CET
DTSTART:20261025T010000
END:STANDARD
END:VTIMEZONE
BEGIN:VEVENT
DTSTART;TZID=Europe/Paris:20250628T153000
DTEND;TZID=Europe/Paris:20250628T180000
DTSTAMP:20260421T185349
CREATED:20250112T155119Z
LAST-MODIFIED:20250624T073851Z
UID:2090-1751124600-1751133600@natvert.fr
SUMMARY:Coeur de Coubre
DESCRIPTION:Bertrand nous fera un point in situ de ce projet de valorisation de la forêt de la Coubre piloté par l’ONF\, auquel participe activement Natvert.
URL:https://natvert.fr/event/coeur-de-coubre/
CATEGORIES:Sorties Nature
END:VEVENT
END:VCALENDAR