BEGIN:VCALENDAR
VERSION:2.0
PRODID:-//Nature en Pays d&#039;Arvert - ECPv6.15.20//NONSGML v1.0//EN
CALSCALE:GREGORIAN
METHOD:PUBLISH
X-ORIGINAL-URL:https://natvert.fr
X-WR-CALDESC:Évènements pour Nature en Pays d&#039;Arvert
REFRESH-INTERVAL;VALUE=DURATION:PT1H
X-Robots-Tag:noindex
X-PUBLISHED-TTL:PT1H
BEGIN:VTIMEZONE
TZID:Europe/Paris
BEGIN:DAYLIGHT
TZOFFSETFROM:+0100
TZOFFSETTO:+0200
TZNAME:CEST
DTSTART:20250330T010000
END:DAYLIGHT
BEGIN:STANDARD
TZOFFSETFROM:+0200
TZOFFSETTO:+0100
TZNAME:CET
DTSTART:20251026T010000
END:STANDARD
BEGIN:DAYLIGHT
TZOFFSETFROM:+0100
TZOFFSETTO:+0200
TZNAME:CEST
DTSTART:20260329T010000
END:DAYLIGHT
BEGIN:STANDARD
TZOFFSETFROM:+0200
TZOFFSETTO:+0100
TZNAME:CET
DTSTART:20261025T010000
END:STANDARD
BEGIN:DAYLIGHT
TZOFFSETFROM:+0100
TZOFFSETTO:+0200
TZNAME:CEST
DTSTART:20270328T010000
END:DAYLIGHT
BEGIN:STANDARD
TZOFFSETFROM:+0200
TZOFFSETTO:+0100
TZNAME:CET
DTSTART:20271031T010000
END:STANDARD
END:VTIMEZONE
BEGIN:VEVENT
DTSTART;TZID=Europe/Paris:20260613T083000
DTEND;TZID=Europe/Paris:20260613T123000
DTSTAMP:20260422T185517
CREATED:20260212T143422Z
LAST-MODIFIED:20260409T165808Z
UID:2767-1781339400-1781353800@natvert.fr
SUMMARY:L'île Madame
DESCRIPTION:Méconnue et secrète\, l’île Madame\, dans l’estuaire de la Charente\, est accessible à marée basse par un chemin empierré\, la Passe aux boeufs à partir de Port Les Barques \n\n\n\nLa sortie affiche complet ! Inscrivez sur liste d’attente éventuellement. \n\n\n\n \n\n\n\nNous en ferons le tour à pied en compagnie de Bruno Toison.
URL:https://natvert.fr/event/lile-madame/
CATEGORIES:Sorties Nature
END:VEVENT
END:VCALENDAR