BEGIN:VCALENDAR
VERSION:2.0
PRODID:-//Nature en Pays d&#039;Arvert - ECPv6.15.20//NONSGML v1.0//EN
CALSCALE:GREGORIAN
METHOD:PUBLISH
X-WR-CALNAME:Nature en Pays d&#039;Arvert
X-ORIGINAL-URL:https://natvert.fr
X-WR-CALDESC:Évènements pour Nature en Pays d&#039;Arvert
REFRESH-INTERVAL;VALUE=DURATION:PT1H
X-Robots-Tag:noindex
X-PUBLISHED-TTL:PT1H
BEGIN:VTIMEZONE
TZID:Europe/Paris
BEGIN:DAYLIGHT
TZOFFSETFROM:+0100
TZOFFSETTO:+0200
TZNAME:CEST
DTSTART:20240331T010000
END:DAYLIGHT
BEGIN:STANDARD
TZOFFSETFROM:+0200
TZOFFSETTO:+0100
TZNAME:CET
DTSTART:20241027T010000
END:STANDARD
BEGIN:DAYLIGHT
TZOFFSETFROM:+0100
TZOFFSETTO:+0200
TZNAME:CEST
DTSTART:20250330T010000
END:DAYLIGHT
BEGIN:STANDARD
TZOFFSETFROM:+0200
TZOFFSETTO:+0100
TZNAME:CET
DTSTART:20251026T010000
END:STANDARD
BEGIN:DAYLIGHT
TZOFFSETFROM:+0100
TZOFFSETTO:+0200
TZNAME:CEST
DTSTART:20260329T010000
END:DAYLIGHT
BEGIN:STANDARD
TZOFFSETFROM:+0200
TZOFFSETTO:+0100
TZNAME:CET
DTSTART:20261025T010000
END:STANDARD
END:VTIMEZONE
BEGIN:VEVENT
DTSTART;TZID=Europe/Paris:20250405T093000
DTEND;TZID=Europe/Paris:20250405T123000
DTSTAMP:20260422T162723
CREATED:20250112T153221Z
LAST-MODIFIED:20250331T090552Z
UID:2079-1743845400-1743856200@natvert.fr
SUMMARY:La réserve naturelle régionale de la Massonne
DESCRIPTION:Thomas Dupeyron\, le conservateur de la réserve\, nous accueillera sur les  parcelles qui rejoignent la RNR cette année et permettent de doubler sa superficie.  \n\n\n\nUne belle balade en perspective. Les chiens ne sont pas autorisés.
URL:https://natvert.fr/event/la-reserve-naturelle-regionale-de-la-massonne-2/
CATEGORIES:Sorties Nature
END:VEVENT
BEGIN:VEVENT
DTSTART;TZID=Europe/Paris:20250410T180000
DTEND;TZID=Europe/Paris:20250410T200000
DTSTAMP:20260422T162723
CREATED:20250111T173957Z
LAST-MODIFIED:20250111T173959Z
UID:2053-1744308000-1744315200@natvert.fr
SUMMARY:Blaireau\, qui es - tu ?
DESCRIPTION:Natvert  et l’ASPAS organisent cette conférence pour mieux comprendre ce petit  mammifère sauvage\, hôte discret de la forêt de la Coubre et de la presqu’île d’Arvert\, mal connu et victime de la chasse.Le blaireau est un petit mustélidé essentiellement nocturne totalement inoffensif et paisible. Il est protégé dans de nombreux pays en Europe mais pas en France. Chez nous\, il est victime de chasse à tir et de battues pour des raisons partisanes et plus que discutables. De plus\, le blaireau fait les frais d’une autre forme de chasse absolument cruelle\, le déterrage\, également appelé la vènerie sous terre.Cette pratique consiste à acculer le blaireau\, parfois avec ses petits\, dans son terrier\, à le harceler à l’aide de chiens\, puis à creuser pour pouvoir le sortir avec des grosses pinces et l’achever. Elle s’exerce du 15 septembre au 15 janvier sans compter la période complémentaire qui est régulièrement autorisée à partir du 15 mai dans de nombreux départements par arrêtés préfectoraux\, alors que les jeunes de l’année ne sont pas encore autonomes.Pour empêcher cette pratique barbare et contraire à la loi sur l’environnement\, les associations mènent de nombreuses actions et se mobilisent chaque année le 15 mai\, le jour où s’ouvre\, hélas\, la saison du déterrage.Venez découvrir ce « petit ours » de nos campagnes et le combat des associations pour le protéger.
URL:https://natvert.fr/event/blaireau-qui-es-tu/
CATEGORIES:Conférences
ATTACH;FMTTYPE=image/png:https://natvert.fr/wp-content/uploads/2025/01/Blaireaux-ASPAS.png
END:VEVENT
BEGIN:VEVENT
DTSTART;TZID=Europe/Paris:20250412T143000
DTEND;TZID=Europe/Paris:20250412T170000
DTSTAMP:20260422T162723
CREATED:20250112T153442Z
LAST-MODIFIED:20250406T143752Z
UID:2081-1744468200-1744477200@natvert.fr
SUMMARY:Les Combots d'Ansoine
DESCRIPTION:Bertrand nous conduira pour une visite approfondie de ce massif forestier.
URL:https://natvert.fr/event/les-combots-dansoine/
CATEGORIES:Sorties Nature
END:VEVENT
BEGIN:VEVENT
DTSTART;TZID=Europe/Paris:20250419T143000
DTEND;TZID=Europe/Paris:20250419T170000
DTSTAMP:20260422T162723
CREATED:20250112T103821Z
LAST-MODIFIED:20250406T145620Z
UID:2070-1745073000-1745082000@natvert.fr
SUMMARY:Baptême d'apiculture
DESCRIPTION:Avec Emmanuel\, apiculteur\, venez découvrir au plus près le monde des abeilles. \n\n\n\nEn tenue d’apiculteur\, découvrez l’intérieur d’une ruche et vivez en direct une expérience sensorielle unique ! \n\n\n\nLa visite se terminera par une récolte de miel\, quand c’est possible\, ainsi qu’une dégustation de différents miels d’ici et d’ailleurs. La blouse d’apiculteur est prêtée par le Parc.Une activité proposée par le Parc de l’Estuaire à tester absolument avec vos enfants pour une approche différente du monde des abeilles.
URL:https://natvert.fr/event/bapteme-dapiculture/
CATEGORIES:Ateliers
ATTACH;FMTTYPE=image/jpeg:https://natvert.fr/wp-content/uploads/2025/01/8400307189673583830.jpg
END:VEVENT
BEGIN:VEVENT
DTSTART;TZID=Europe/Paris:20250426T093000
DTEND;TZID=Europe/Paris:20250426T123000
DTSTAMP:20260422T162723
CREATED:20250112T154115Z
LAST-MODIFIED:20250413T084711Z
UID:2083-1745659800-1745670600@natvert.fr
SUMMARY:Les orchidées et autres fleurs sauvages dans le marais de Pontaillac
DESCRIPTION:Partons à la recherche des petites orchidées en compagnie de Claire\, qui nous parlera aussi amphibiens\, flore aquatique. Le marais de Pontaillac est un petit ilot de biodiversité cerné par l’urbanisation des villes balnéaires qui le jouxte. A protéger d’urgence.
URL:https://natvert.fr/event/les-orchidees-sauvages-dans-le-marais-de-pontaillac/
CATEGORIES:Sorties Nature
END:VEVENT
BEGIN:VEVENT
DTSTART;TZID=Europe/Paris:20250426T143000
DTEND;TZID=Europe/Paris:20250426T170000
DTSTAMP:20260422T162723
CREATED:20250415T133009Z
LAST-MODIFIED:20250415T133042Z
UID:2271-1745677800-1745686800@natvert.fr
SUMMARY:Baptême d'apiculture
DESCRIPTION:(sous réserve de confirmation) \n\n\n\nAvec Emmanuel\, apiculteur\, venez découvrir au plus près le monde des abeilles. \n\n\n\nEn tenue d’apiculteur\, découvrez l’intérieur d’une ruche et vivez en direct une expérience sensorielle unique ! \n\n\n\nLa visite se terminera par une récolte de miel\, quand c’est possible\, ainsi qu’une dégustation de différents miels d’ici et d’ailleurs. La blouse d’apiculteur est prêtée par le Parc.Une activité proposée par le Parc de l’Estuaire à tester absolument avec vos enfants pour une approche différente du monde des abeilles.
URL:https://natvert.fr/event/bapteme-dapiculture-2/
CATEGORIES:Ateliers
ATTACH;FMTTYPE=image/jpeg:https://natvert.fr/wp-content/uploads/2025/01/8400307189673583830.jpg
END:VEVENT
END:VCALENDAR