BEGIN:VCALENDAR
VERSION:2.0
PRODID:-//Nature en Pays d&#039;Arvert - ECPv6.15.20//NONSGML v1.0//EN
CALSCALE:GREGORIAN
METHOD:PUBLISH
X-ORIGINAL-URL:https://natvert.fr
X-WR-CALDESC:Évènements pour Nature en Pays d&#039;Arvert
REFRESH-INTERVAL;VALUE=DURATION:PT1H
X-Robots-Tag:noindex
X-PUBLISHED-TTL:PT1H
BEGIN:VTIMEZONE
TZID:Europe/Paris
BEGIN:DAYLIGHT
TZOFFSETFROM:+0100
TZOFFSETTO:+0200
TZNAME:CEST
DTSTART:20240331T010000
END:DAYLIGHT
BEGIN:STANDARD
TZOFFSETFROM:+0200
TZOFFSETTO:+0100
TZNAME:CET
DTSTART:20241027T010000
END:STANDARD
BEGIN:DAYLIGHT
TZOFFSETFROM:+0100
TZOFFSETTO:+0200
TZNAME:CEST
DTSTART:20250330T010000
END:DAYLIGHT
BEGIN:STANDARD
TZOFFSETFROM:+0200
TZOFFSETTO:+0100
TZNAME:CET
DTSTART:20251026T010000
END:STANDARD
BEGIN:DAYLIGHT
TZOFFSETFROM:+0100
TZOFFSETTO:+0200
TZNAME:CEST
DTSTART:20260329T010000
END:DAYLIGHT
BEGIN:STANDARD
TZOFFSETFROM:+0200
TZOFFSETTO:+0100
TZNAME:CET
DTSTART:20261025T010000
END:STANDARD
END:VTIMEZONE
BEGIN:VEVENT
DTSTART;TZID=Europe/Paris:20250522T200000
DTEND;TZID=Europe/Paris:20250522T220000
DTSTAMP:20260420T162012
CREATED:20250111T174640Z
LAST-MODIFIED:20250308T095825Z
UID:2056-1747944000-1747951200@natvert.fr
SUMMARY:Les libellules
DESCRIPTION:Les libellules elles aussi se font rares malheureusement\, ces grandes prédatrices souffrent de la disparition des insectes et de la pollution chimique de l’eau. \n\n\n\nHeureusement il reste quelques secteurs où on peut encore les observer. Avant une sortie découverte sur le terrain en juin\, Claire Pigelet\, notre naturaliste Natvert\, vous propose de découvrir toutes leurs spécificités\, du stade larvaire à la reproduction adulte de ces insectes qui sont plein de ressources et vont nous étonner.
URL:https://natvert.fr/event/les-libellules/
CATEGORIES:Conférences
END:VEVENT
BEGIN:VEVENT
DTSTART;TZID=Europe/Paris:20250531T143000
DTEND;TZID=Europe/Paris:20250531T173000
DTSTAMP:20260420T162012
CREATED:20250112T154358Z
LAST-MODIFIED:20250507T093457Z
UID:2085-1748701800-1748712600@natvert.fr
SUMMARY:Le patrimoine historique de la forêt de la Coubre
DESCRIPTION:Bertrand vous propose une sortie découverte ou redécouverte du patrimoine historique de la forêt de la Coubre.
URL:https://natvert.fr/event/le-patrimoine-historique-de-la-foret-de-la-coubre/
CATEGORIES:Sorties Nature
END:VEVENT
END:VCALENDAR