BEGIN:VCALENDAR
VERSION:2.0
PRODID:-//Nature en Pays d&#039;Arvert - ECPv6.15.20//NONSGML v1.0//EN
CALSCALE:GREGORIAN
METHOD:PUBLISH
X-WR-CALNAME:Nature en Pays d&#039;Arvert
X-ORIGINAL-URL:https://natvert.fr
X-WR-CALDESC:Évènements pour Nature en Pays d&#039;Arvert
REFRESH-INTERVAL;VALUE=DURATION:PT1H
X-Robots-Tag:noindex
X-PUBLISHED-TTL:PT1H
BEGIN:VTIMEZONE
TZID:Europe/Paris
BEGIN:DAYLIGHT
TZOFFSETFROM:+0100
TZOFFSETTO:+0200
TZNAME:CEST
DTSTART:20240331T010000
END:DAYLIGHT
BEGIN:STANDARD
TZOFFSETFROM:+0200
TZOFFSETTO:+0100
TZNAME:CET
DTSTART:20241027T010000
END:STANDARD
BEGIN:DAYLIGHT
TZOFFSETFROM:+0100
TZOFFSETTO:+0200
TZNAME:CEST
DTSTART:20250330T010000
END:DAYLIGHT
BEGIN:STANDARD
TZOFFSETFROM:+0200
TZOFFSETTO:+0100
TZNAME:CET
DTSTART:20251026T010000
END:STANDARD
BEGIN:DAYLIGHT
TZOFFSETFROM:+0100
TZOFFSETTO:+0200
TZNAME:CEST
DTSTART:20260329T010000
END:DAYLIGHT
BEGIN:STANDARD
TZOFFSETFROM:+0200
TZOFFSETTO:+0100
TZNAME:CET
DTSTART:20261025T010000
END:STANDARD
END:VTIMEZONE
BEGIN:VEVENT
DTSTART;TZID=Europe/Paris:20251108T140000
DTEND;TZID=Europe/Paris:20251108T170000
DTSTAMP:20260421T104338
CREATED:20250603T151230Z
LAST-MODIFIED:20251015T075510Z
UID:2342-1762610400-1762621200@natvert.fr
SUMMARY:Entre production et protection\, la gestion de la forêt de la Coubre
DESCRIPTION:Philippe Lequeux\, ancien technicien forestier de l’ONF\, vous expliquera la gestion sylvicole de la forêt.
URL:https://natvert.fr/event/entre-production-et-protection-la-gestion-de-la-foret-de-la-coubre/
CATEGORIES:Sorties Nature
END:VEVENT
BEGIN:VEVENT
DTSTART;TZID=Europe/Paris:20251114T193000
DTEND;TZID=Europe/Paris:20251114T213000
DTSTAMP:20260421T104338
CREATED:20250603T150612Z
LAST-MODIFIED:20251030T180751Z
UID:2338-1763148600-1763155800@natvert.fr
SUMMARY:Les salamandres
DESCRIPTION:Une sortie nocturne avec Claire pour découvrir ce petit animal très discret …
URL:https://natvert.fr/event/les-salamandres/
CATEGORIES:Sorties Nature
END:VEVENT
BEGIN:VEVENT
DTSTART;TZID=Europe/Paris:20251120T180000
DTEND;TZID=Europe/Paris:20251120T200000
DTSTAMP:20260421T104338
CREATED:20250603T144512Z
LAST-MODIFIED:20250603T144514Z
UID:2328-1763661600-1763668800@natvert.fr
SUMMARY:La faune sauvage du Pays Royannais
DESCRIPTION:Bien que très urbanisé et très fréquenté le Pays Royannais abrite toute une faune sauvage\, discrète mais bien présente pour ceux et celles qui savent observer. \n\n\n\nSophie Huberson est l’une de ces personnes et elle nous fera partager avec son enthousiasme habituel ses observations ce jeudi 20 novembre à la salle des fêtes d’Arvert.
URL:https://natvert.fr/event/la-faune-sauvage-du-pays-royannais/
CATEGORIES:Conférences
END:VEVENT
END:VCALENDAR